BEGIN:VCALENDAR
VERSION:2.0
PRODID:-//ChamberMaster//Event Calendar 2.0//EN
METHOD:PUBLISH
X-PUBLISHED-TTL:P1H
REFRESH-INTERVAL:P1H
CALSCALE:GREGORIAN
BEGIN:VTIMEZONE
TZID:America/Phoenix
BEGIN:DAYLIGHT
DTSTART:20070311T020000
TZOFFSETFROM:-0700
TZOFFSETTO:-0700
TZNAME:(UTC-07:00) Arizona
END:DAYLIGHT
BEGIN:STANDARD
DTSTART:20071104T020000
TZOFFSETFROM:-0700
TZOFFSETTO:-0700
TZNAME:(UTC-07:00) Arizona
END:STANDARD
END:VTIMEZONE
BEGIN:VEVENT
DTSTART;TZID=America/Phoenix:20260423T100000
DTEND;TZID=America/Phoenix:20260423T110000
X-MICROSOFT-CDO-ALLDAYEVENT:FALSE
SUMMARY:“The Future of Sustainability in Arizona"
DESCRIPTION:Upcoming Meeting Update: The Future of Sustainability in Arizona - April 23In lieu of our monthly committee meeting\, the Innovation & Sustainability committee is invited to attend "The Future of Sustainability in Arizona event." This event is free to attend and serves as a powerful platform for professional networking and community impact. Event highlights:The program features high-level insights from several organizations and sustainability champions:       Ambassador Jovita Neliupsiene\, EU Ambassador to the United States     Mayor Kate Gallego\, City of Phoenix     Key Stakeholders: ASU\, The AZ Community Foundation\, Bloomberg\, and Green LivingDiscussion and Breakout Topics:     Water Security     Climate Resilience     Healthy Communities      Clean EnergyThe event is this Thursday\, April 23rd\, from 11:15 a.m. - 4:00 p.m. at Nina Mason Pulliam Rio Salado Audubon Center located at 3131 S. Central Avenue\, Phoenix\, AZ 85040.\nTo register\, please click on the link to secure your spot: Register for The Future of Sustainability in ArizonaPlease note: Our regular committee meeting will resume on May 14\, 2026.\nAbout the Committee:The committee's mission is to cultivate innovation\, showcase tech talent\, and champion sustainable practices by providing resources and fostering collaboration within the Chamber community.The Innovation & Sustainability Committee is dedicated to fostering a culture of innovation\, highlighting tech talent\, and driving sustainable practices. We offer networking and collaboration opportunities on shared practices and support the Chamber's mission to provide resources for members to adopt or enhance innovative sustainable methods.
X-ALT-DESC;FMTTYPE=text/html:<!DOCTYPE html><html><head><title></title></head><body aria-disabled="false"><p><!--[if !vml]--><!--[endif]--><span style="color: rgb(0\, 0\, 0)\;"><strong fr-original-style="" style="font-weight: 700\;"><span style="font-size: 18px\;">Upcoming Meeting Update: The Future of Sustainability in Arizona - April 23</span></strong></span></p><p><span style="font-size: 18px\;">In lieu of our monthly committee meeting\, the Innovation &amp\; Sustainability committee is invited to attend &ldquo\;The Future of Sustainability in Arizona event.&rdquo\; This event is free to attend and serves as a powerful platform for professional networking and community impact. </span></p><p><strong fr-original-style="" style="font-weight: 700\;">Event highlights:</strong></p><p>The program features high-level insights from several organizations and sustainability champions: &nbsp\;</p><p>&bull\;<span style="white-space:pre\;">&nbsp\; &nbsp\;&nbsp\;</span>Ambassador Jovita Neliupsiene\, EU Ambassador to the United States</p><p>&bull\;<span style="white-space:pre\;">&nbsp\; &nbsp\;&nbsp\;</span>Mayor Kate Gallego\, City of Phoenix</p><p>&bull\;<span style="white-space:pre\;">&nbsp\; &nbsp\;&nbsp\;</span>Key Stakeholders: ASU\, The AZ Community Foundation\, Bloomberg\, and Green Living</p><p><strong fr-original-style="" style="font-weight: 700\;">Discussion and Breakout Topics:</strong></p><p>&bull\;<span style="white-space:pre\;">&nbsp\; &nbsp\;&nbsp\;</span>Water Security</p><p>&bull\;<span style="white-space:pre\;">&nbsp\; &nbsp\;&nbsp\;</span>Climate Resilience</p><p>&bull\;<span style="white-space:pre\;">&nbsp\; &nbsp\;&nbsp\;</span>Healthy Communities&nbsp\;</p><p>&bull\;<span style="white-space:pre\;">&nbsp\; &nbsp\;&nbsp\;</span>Clean Energy</p><p>The event is this Thursday\, April 23rd\, from 11:15 a.m. - 4:00 p.m. at Nina Mason Pulliam Rio Salado Audubon Center located at 3131 S. Central Avenue\, Phoenix\, AZ 85040.</p><p><br></p><p>To register\, please click on the link to secure your spot: <strong fr-original-style="" style="font-weight: 700\;"><a fr-original-style="" href="https://greenlivingmag.com/events/the-future-of-sustainability-in-arizona/" style="user-select: auto\;" target="_blank">Register for The Future of Sustainability in Arizona</a></strong></p><p><strong fr-original-style="" style="font-weight: 700\;"><span style="color: rgb(41\, 105\, 176)\;">Please note: Our regular committee meeting will resume on May 14\, 2026.</span></strong></p><p><br></p><p><strong fr-original-style="" style="font-weight: 700\;">About the Committee:</strong></p><p>The committee&#39\;s mission is to cultivate innovation\, showcase tech talent\, and champion sustainable practices by providing resources and fostering collaboration within the Chamber community.</p><p>The Innovation &amp\; Sustainability Committee is dedicated to fostering a culture of innovation\, highlighting tech talent\, and driving sustainable practices. We offer networking and collaboration opportunities on shared practices and support the Chamber&#39\;s mission to provide resources for members to adopt or enhance innovative sustainable methods.</p></body></html>
LOCATION:
UID:e.2700.1376803
SEQUENCE:3
DTSTAMP:20260425T224400Z
URL:https://business.tempechamber.org/community-events/Details/the-future-of-sustainability-in-arizona-1625494?sourceTypeId=Hub
END:VEVENT
END:VCALENDAR
