BEGIN:VCALENDAR
VERSION:2.0
PRODID:-//ChamberMaster//Event Calendar 2.0//EN
METHOD:PUBLISH
X-PUBLISHED-TTL:P1H
REFRESH-INTERVAL:P1H
CALSCALE:GREGORIAN
BEGIN:VTIMEZONE
TZID:America/Phoenix
BEGIN:DAYLIGHT
DTSTART:20070311T020000
TZOFFSETFROM:-0700
TZOFFSETTO:-0700
TZNAME:(UTC-07:00) Arizona
END:DAYLIGHT
BEGIN:STANDARD
DTSTART:20071104T020000
TZOFFSETFROM:-0700
TZOFFSETTO:-0700
TZNAME:(UTC-07:00) Arizona
END:STANDARD
END:VTIMEZONE
BEGIN:VEVENT
DTSTART;TZID=America/Phoenix:20260424T170000
DTEND;TZID=America/Phoenix:20260425T180000
X-MICROSOFT-CDO-ALLDAYEVENT:FALSE
SUMMARY:Happy Hour Pilates
DESCRIPTION:Club Pilates Watermark and Four Peaks Brewing Company are teaming up for a FREE indoor mat pilates class! Join us at Four Peaks Brewing Company for a fun\, invigorating workout and stay after for a specialty discounted food/drinks menu! Just bring your yoga mat and a friend to sweat with! Friday (4/24) from 5pm-6pm!\nRSVP
X-ALT-DESC;FMTTYPE=text/html:<!DOCTYPE html><html><head><title></title></head><body aria-disabled="false"><p>Club Pilates Watermark and Four Peaks Brewing Company are teaming up for a FREE indoor mat pilates class! Join us at Four Peaks Brewing Company for a fun\, invigorating workout and stay after for a specialty discounted food/drinks menu! Just bring your yoga mat and a friend to sweat with! Friday (4/24) from 5pm-6pm!</p><p><br></p><p>RSVP&nbsp\;</p></body></html>
LOCATION:1340 E. 8th St. #104 Tempe AZ 85281
UID:e.2700.1449439
SEQUENCE:3
DTSTAMP:20260425T230859Z
URL:https://business.tempechamber.org/community-events/Details/happy-hour-pilates-1716899?sourceTypeId=Hub
END:VEVENT
END:VCALENDAR
